BEGIN:VCALENDAR
VERSION:2.0
PRODID:-//Cheyenne Home Builders - ECPv6.15.20//NONSGML v1.0//EN
CALSCALE:GREGORIAN
METHOD:PUBLISH
X-ORIGINAL-URL:https://cheyennehomebuilders.com
X-WR-CALDESC:Events for Cheyenne Home Builders
REFRESH-INTERVAL;VALUE=DURATION:PT1H
X-Robots-Tag:noindex
X-PUBLISHED-TTL:PT1H
BEGIN:VTIMEZONE
TZID:America/Denver
BEGIN:DAYLIGHT
TZOFFSETFROM:-0700
TZOFFSETTO:-0600
TZNAME:MDT
DTSTART:20250309T090000
END:DAYLIGHT
BEGIN:STANDARD
TZOFFSETFROM:-0600
TZOFFSETTO:-0700
TZNAME:MST
DTSTART:20251102T080000
END:STANDARD
BEGIN:DAYLIGHT
TZOFFSETFROM:-0700
TZOFFSETTO:-0600
TZNAME:MDT
DTSTART:20260308T090000
END:DAYLIGHT
BEGIN:STANDARD
TZOFFSETFROM:-0600
TZOFFSETTO:-0700
TZNAME:MST
DTSTART:20261101T080000
END:STANDARD
BEGIN:DAYLIGHT
TZOFFSETFROM:-0700
TZOFFSETTO:-0600
TZNAME:MDT
DTSTART:20270314T090000
END:DAYLIGHT
BEGIN:STANDARD
TZOFFSETFROM:-0600
TZOFFSETTO:-0700
TZNAME:MST
DTSTART:20271107T080000
END:STANDARD
END:VTIMEZONE
BEGIN:VEVENT
DTSTART;TZID=America/Denver:20260505T173000
DTEND;TZID=America/Denver:20260505T183000
DTSTAMP:20260423T082017
CREATED:20251110T181436Z
LAST-MODIFIED:20251110T181436Z
UID:41935-1778002200-1778005800@cheyennehomebuilders.com
SUMMARY:Exec Meeting
DESCRIPTION:
URL:https://cheyennehomebuilders.com/calendar/exec-meeting-15/
LOCATION:WY
END:VEVENT
BEGIN:VEVENT
DTSTART;TZID=America/Denver:20260507T173000
DTEND;TZID=America/Denver:20260507T183000
DTSTAMP:20260423T082017
CREATED:20260407T224834Z
LAST-MODIFIED:20260407T224834Z
UID:42010-1778175000-1778178600@cheyennehomebuilders.com
SUMMARY:Parade of Homes Committee Meeting
DESCRIPTION:
URL:https://cheyennehomebuilders.com/calendar/parade-of-homes-committee-meeting-9/
LOCATION:The Align Team\, 822 W 23rd St\, Cheyenne\, WY\, 82001
END:VEVENT
BEGIN:VEVENT
DTSTART;TZID=America/Denver:20260512T173000
DTEND;TZID=America/Denver:20260512T183000
DTSTAMP:20260423T082017
CREATED:20251110T181505Z
LAST-MODIFIED:20251110T181505Z
UID:41937-1778607000-1778610600@cheyennehomebuilders.com
SUMMARY:Board Meeting
DESCRIPTION:
URL:https://cheyennehomebuilders.com/calendar/board-meeting-16/
LOCATION:The Align Team\, 822 W 23rd St\, Cheyenne\, WY\, 82001
END:VEVENT
BEGIN:VEVENT
DTSTART;TZID=America/Denver:20260527T173000
DTEND;TZID=America/Denver:20260527T193000
DTSTAMP:20260423T082017
CREATED:20251201T231729Z
LAST-MODIFIED:20251201T232403Z
UID:41977-1779903000-1779910200@cheyennehomebuilders.com
SUMMARY:Membership Meeting
DESCRIPTION:Taco Bar
URL:https://cheyennehomebuilders.com/calendar/membership-meeting-7/
LOCATION:Laramie County Community College – CCI 130\, 1400 E College Dr\, Cheyenne\, WY\, 82007
END:VEVENT
END:VCALENDAR