BEGIN:VCALENDAR
VERSION:2.0
PRODID:-//Cheyenne Home Builders - ECPv6.15.20//NONSGML v1.0//EN
CALSCALE:GREGORIAN
METHOD:PUBLISH
X-ORIGINAL-URL:https://cheyennehomebuilders.com
X-WR-CALDESC:Events for Cheyenne Home Builders
REFRESH-INTERVAL;VALUE=DURATION:PT1H
X-Robots-Tag:noindex
X-PUBLISHED-TTL:PT1H
BEGIN:VTIMEZONE
TZID:America/Denver
BEGIN:DAYLIGHT
TZOFFSETFROM:-0700
TZOFFSETTO:-0600
TZNAME:MDT
DTSTART:20250309T090000
END:DAYLIGHT
BEGIN:STANDARD
TZOFFSETFROM:-0600
TZOFFSETTO:-0700
TZNAME:MST
DTSTART:20251102T080000
END:STANDARD
BEGIN:DAYLIGHT
TZOFFSETFROM:-0700
TZOFFSETTO:-0600
TZNAME:MDT
DTSTART:20260308T090000
END:DAYLIGHT
BEGIN:STANDARD
TZOFFSETFROM:-0600
TZOFFSETTO:-0700
TZNAME:MST
DTSTART:20261101T080000
END:STANDARD
BEGIN:DAYLIGHT
TZOFFSETFROM:-0700
TZOFFSETTO:-0600
TZNAME:MDT
DTSTART:20270314T090000
END:DAYLIGHT
BEGIN:STANDARD
TZOFFSETFROM:-0600
TZOFFSETTO:-0700
TZNAME:MST
DTSTART:20271107T080000
END:STANDARD
END:VTIMEZONE
BEGIN:VEVENT
DTSTART;TZID=America/Denver:20261006T173000
DTEND;TZID=America/Denver:20261006T183000
DTSTAMP:20260423T150109
CREATED:20251110T183228Z
LAST-MODIFIED:20251110T183228Z
UID:41957-1791307800-1791311400@cheyennehomebuilders.com
SUMMARY:Exec Meeting
DESCRIPTION:
URL:https://cheyennehomebuilders.com/calendar/exec-meeting-20/
END:VEVENT
BEGIN:VEVENT
DTSTART;TZID=America/Denver:20261013T080000
DTEND;TZID=America/Denver:20261013T170000
DTSTAMP:20260423T150109
CREATED:20251110T183507Z
LAST-MODIFIED:20251110T183507Z
UID:41959-1791878400-1791910800@cheyennehomebuilders.com
SUMMARY:Board Meeting
DESCRIPTION:
URL:https://cheyennehomebuilders.com/calendar/board-meeting-21/
LOCATION:The Align Team\, 822 W 23rd St\, Cheyenne\, WY\, 82001
END:VEVENT
BEGIN:VEVENT
DTSTART;TZID=America/Denver:20261103T173000
DTEND;TZID=America/Denver:20261103T183000
DTSTAMP:20260423T150109
CREATED:20251110T183535Z
LAST-MODIFIED:20251110T183535Z
UID:41961-1793727000-1793730600@cheyennehomebuilders.com
SUMMARY:Exec Meeting
DESCRIPTION:
URL:https://cheyennehomebuilders.com/calendar/exec-meeting-21/
END:VEVENT
BEGIN:VEVENT
DTSTART;TZID=America/Denver:20261110T173000
DTEND;TZID=America/Denver:20261110T183000
DTSTAMP:20260423T150109
CREATED:20251110T183602Z
LAST-MODIFIED:20251110T183602Z
UID:41963-1794331800-1794335400@cheyennehomebuilders.com
SUMMARY:Board Meeting
DESCRIPTION:
URL:https://cheyennehomebuilders.com/calendar/board-meeting-22/
LOCATION:The Align Team\, 822 W 23rd St\, Cheyenne\, WY\, 82001
END:VEVENT
BEGIN:VEVENT
DTSTART;TZID=America/Denver:20261118T173000
DTEND;TZID=America/Denver:20261118T193000
DTSTAMP:20260423T150109
CREATED:20251201T231901Z
LAST-MODIFIED:20251201T232428Z
UID:41981-1795023000-1795030200@cheyennehomebuilders.com
SUMMARY:Membership Meeting
DESCRIPTION:Apple Cider Glazed Pork Loin
URL:https://cheyennehomebuilders.com/calendar/membership-meeting-9/
LOCATION:Laramie County Community College – Clay Pathfinder\, Rm 108\, 1400 E College Dr\, Cheyenne\, WY\, 82007
END:VEVENT
BEGIN:VEVENT
DTSTART;TZID=America/Denver:20261201T173000
DTEND;TZID=America/Denver:20261201T183000
DTSTAMP:20260423T150109
CREATED:20251110T183629Z
LAST-MODIFIED:20251110T183629Z
UID:41965-1796146200-1796149800@cheyennehomebuilders.com
SUMMARY:Exec Meeting
DESCRIPTION:
URL:https://cheyennehomebuilders.com/calendar/exec-meeting-22/
END:VEVENT
BEGIN:VEVENT
DTSTART;TZID=America/Denver:20261208T173000
DTEND;TZID=America/Denver:20261208T183000
DTSTAMP:20260423T150109
CREATED:20251110T183657Z
LAST-MODIFIED:20251110T183657Z
UID:41967-1796751000-1796754600@cheyennehomebuilders.com
SUMMARY:Board Meeting
DESCRIPTION:
URL:https://cheyennehomebuilders.com/calendar/board-meeting-23/
LOCATION:The Align Team\, 822 W 23rd St\, Cheyenne\, WY\, 82001
END:VEVENT
END:VCALENDAR