BEGIN:VCALENDAR
VERSION:2.0
PRODID:-//Cheyenne Home Builders - ECPv6.15.20//NONSGML v1.0//EN
CALSCALE:GREGORIAN
METHOD:PUBLISH
X-WR-CALNAME:Cheyenne Home Builders
X-ORIGINAL-URL:https://cheyennehomebuilders.com
X-WR-CALDESC:Events for Cheyenne Home Builders
REFRESH-INTERVAL;VALUE=DURATION:PT1H
X-Robots-Tag:noindex
X-PUBLISHED-TTL:PT1H
BEGIN:VTIMEZONE
TZID:America/Denver
BEGIN:DAYLIGHT
TZOFFSETFROM:-0700
TZOFFSETTO:-0600
TZNAME:MDT
DTSTART:20240310T090000
END:DAYLIGHT
BEGIN:STANDARD
TZOFFSETFROM:-0600
TZOFFSETTO:-0700
TZNAME:MST
DTSTART:20241103T080000
END:STANDARD
BEGIN:DAYLIGHT
TZOFFSETFROM:-0700
TZOFFSETTO:-0600
TZNAME:MDT
DTSTART:20250309T090000
END:DAYLIGHT
BEGIN:STANDARD
TZOFFSETFROM:-0600
TZOFFSETTO:-0700
TZNAME:MST
DTSTART:20251102T080000
END:STANDARD
BEGIN:DAYLIGHT
TZOFFSETFROM:-0700
TZOFFSETTO:-0600
TZNAME:MDT
DTSTART:20260308T090000
END:DAYLIGHT
BEGIN:STANDARD
TZOFFSETFROM:-0600
TZOFFSETTO:-0700
TZNAME:MST
DTSTART:20261101T080000
END:STANDARD
END:VTIMEZONE
BEGIN:VEVENT
DTSTART;TZID=America/Denver:20251209T173000
DTEND;TZID=America/Denver:20251209T183000
DTSTAMP:20260423T141401
CREATED:20250206T163336Z
LAST-MODIFIED:20250206T163336Z
UID:41711-1765301400-1765305000@cheyennehomebuilders.com
SUMMARY:Board Meeting
DESCRIPTION:
URL:https://cheyennehomebuilders.com/calendar/board-meeting-11/
LOCATION:The Align Team\, 822 W 23rd St\, Cheyenne\, WY\, 82001
END:VEVENT
BEGIN:VEVENT
DTSTART;TZID=America/Denver:20251204T173000
DTEND;TZID=America/Denver:20251204T193000
DTSTAMP:20260423T141401
CREATED:20251110T180249Z
LAST-MODIFIED:20251110T180249Z
UID:41912-1764869400-1764876600@cheyennehomebuilders.com
SUMMARY:Holiday Party
DESCRIPTION:
URL:https://cheyennehomebuilders.com/calendar/holiday-party/
LOCATION:Ace’s Range\, 1505 Pioneer Ave\, Cheyenne\, WY\, 82001
END:VEVENT
BEGIN:VEVENT
DTSTART;TZID=America/Denver:20251202T173000
DTEND;TZID=America/Denver:20251202T183000
DTSTAMP:20260423T141401
CREATED:20250206T171839Z
LAST-MODIFIED:20250206T171839Z
UID:41733-1764696600-1764700200@cheyennehomebuilders.com
SUMMARY:Exec Meeting
DESCRIPTION:
URL:https://cheyennehomebuilders.com/calendar/exec-meeting-10/
END:VEVENT
BEGIN:VEVENT
DTSTART;TZID=America/Denver:20251119T173000
DTEND;TZID=America/Denver:20251119T193000
DTSTAMP:20260423T141401
CREATED:20250206T162342Z
LAST-MODIFIED:20250206T162342Z
UID:41690-1763573400-1763580600@cheyennehomebuilders.com
SUMMARY:Membership Meeting
DESCRIPTION:
URL:https://cheyennehomebuilders.com/calendar/membership-meeting-4/
LOCATION:Laramie County Community College – Clay Pathfinder\, Rm 108\, 1400 E College Dr\, Cheyenne\, WY\, 82007
END:VEVENT
BEGIN:VEVENT
DTSTART;TZID=America/Denver:20251112T173000
DTEND;TZID=America/Denver:20251112T183000
DTSTAMP:20260423T141401
CREATED:20250206T163313Z
LAST-MODIFIED:20251110T180400Z
UID:41709-1762968600-1762972200@cheyennehomebuilders.com
SUMMARY:Board Meeting
DESCRIPTION:
URL:https://cheyennehomebuilders.com/calendar/board-meeting-10/
LOCATION:The Align Team\, 822 W 23rd St\, Cheyenne\, WY\, 82001
END:VEVENT
BEGIN:VEVENT
DTSTART;TZID=America/Denver:20251104T173000
DTEND;TZID=America/Denver:20251104T183000
DTSTAMP:20260423T141401
CREATED:20250206T171813Z
LAST-MODIFIED:20250206T171813Z
UID:41731-1762277400-1762281000@cheyennehomebuilders.com
SUMMARY:Exec Meeting
DESCRIPTION:
URL:https://cheyennehomebuilders.com/calendar/exec-meeting-9/
END:VEVENT
BEGIN:VEVENT
DTSTART;TZID=America/Denver:20251014T173000
DTEND;TZID=America/Denver:20251014T183000
DTSTAMP:20260423T141401
CREATED:20250206T163246Z
LAST-MODIFIED:20250206T163246Z
UID:41707-1760463000-1760466600@cheyennehomebuilders.com
SUMMARY:Board Meeting
DESCRIPTION:
URL:https://cheyennehomebuilders.com/calendar/board-meeting-9/
LOCATION:The Align Team\, 822 W 23rd St\, Cheyenne\, WY\, 82001
END:VEVENT
BEGIN:VEVENT
DTSTART;TZID=America/Denver:20251007T173000
DTEND;TZID=America/Denver:20251007T183000
DTSTAMP:20260423T141401
CREATED:20250206T171744Z
LAST-MODIFIED:20250206T171744Z
UID:41729-1759858200-1759861800@cheyennehomebuilders.com
SUMMARY:Exec Meeting
DESCRIPTION:
URL:https://cheyennehomebuilders.com/calendar/exec-meeting-8/
END:VEVENT
BEGIN:VEVENT
DTSTART;TZID=America/Denver:20250924T173000
DTEND;TZID=America/Denver:20250924T193000
DTSTAMP:20260423T141401
CREATED:20250206T162139Z
LAST-MODIFIED:20250206T162221Z
UID:41688-1758735000-1758742200@cheyennehomebuilders.com
SUMMARY:Membership Meeting
DESCRIPTION:
URL:https://cheyennehomebuilders.com/calendar/membership-meeting-3/
LOCATION:Laramie County Community College – CCI 130\, 1400 E College Dr\, Cheyenne\, WY\, 82007
END:VEVENT
BEGIN:VEVENT
DTSTART;TZID=America/Denver:20250912T150000
DTEND;TZID=America/Denver:20250914T160000
DTSTAMP:20260423T141401
CREATED:20250206T163615Z
LAST-MODIFIED:20250206T163615Z
UID:41713-1757689200-1757865600@cheyennehomebuilders.com
SUMMARY:Cheyenne Parade of Homes
DESCRIPTION:
URL:https://cheyennehomebuilders.com/calendar/cheyenne-parade-of-homes/
END:VEVENT
BEGIN:VEVENT
DTSTART;TZID=America/Denver:20250909T173000
DTEND;TZID=America/Denver:20250909T183000
DTSTAMP:20260423T141401
CREATED:20250206T163218Z
LAST-MODIFIED:20250206T163218Z
UID:41705-1757439000-1757442600@cheyennehomebuilders.com
SUMMARY:Board Meeting
DESCRIPTION:
URL:https://cheyennehomebuilders.com/calendar/board-meeting-8/
LOCATION:The Align Team\, 822 W 23rd St\, Cheyenne\, WY\, 82001
END:VEVENT
BEGIN:VEVENT
DTSTART;TZID=America/Denver:20250906T110000
DTEND;TZID=America/Denver:20250906T130000
DTSTAMP:20260423T141401
CREATED:20250820T155617Z
LAST-MODIFIED:20250820T155617Z
UID:41886-1757156400-1757163600@cheyennehomebuilders.com
SUMMARY:UW Tailgate
DESCRIPTION:
URL:https://cheyennehomebuilders.com/calendar/uw-tailgate/
LOCATION:War Memorial Stadium\, Laramie\, WY
END:VEVENT
BEGIN:VEVENT
DTSTART;TZID=America/Denver:20250902T173000
DTEND;TZID=America/Denver:20250902T183000
DTSTAMP:20260423T141401
CREATED:20250206T171719Z
LAST-MODIFIED:20250206T171719Z
UID:41727-1756834200-1756837800@cheyennehomebuilders.com
SUMMARY:Exec Meeting
DESCRIPTION:
URL:https://cheyennehomebuilders.com/calendar/exec-meeting-7/
END:VEVENT
BEGIN:VEVENT
DTSTART;TZID=America/Denver:20250812T173000
DTEND;TZID=America/Denver:20250812T183000
DTSTAMP:20260423T141401
CREATED:20250206T163146Z
LAST-MODIFIED:20250206T163146Z
UID:41703-1755019800-1755023400@cheyennehomebuilders.com
SUMMARY:Board Meeting
DESCRIPTION:
URL:https://cheyennehomebuilders.com/calendar/board-meeting-7/
LOCATION:The Align Team\, 822 W 23rd St\, Cheyenne\, WY\, 82001
END:VEVENT
BEGIN:VEVENT
DTSTART;TZID=America/Denver:20250805T173000
DTEND;TZID=America/Denver:20250805T183000
DTSTAMP:20260423T141401
CREATED:20250206T171623Z
LAST-MODIFIED:20250206T171623Z
UID:41725-1754415000-1754418600@cheyennehomebuilders.com
SUMMARY:Exec Meeting
DESCRIPTION:
URL:https://cheyennehomebuilders.com/calendar/exec-meeting-6/
END:VEVENT
BEGIN:VEVENT
DTSTART;TZID=America/Denver:20250731T173000
DTEND;TZID=America/Denver:20250731T183000
DTSTAMP:20260423T141401
CREATED:20250709T142143Z
LAST-MODIFIED:20250709T142143Z
UID:41883-1753983000-1753986600@cheyennehomebuilders.com
SUMMARY:Parade of Homes Committee Meeting
DESCRIPTION:
URL:https://cheyennehomebuilders.com/calendar/parade-of-homes-committee-meeting-8/
LOCATION:The Align Team\, 822 W 23rd St\, Cheyenne\, WY\, 82001
END:VEVENT
BEGIN:VEVENT
DTSTART;TZID=America/Denver:20250708T173000
DTEND;TZID=America/Denver:20250708T183000
DTSTAMP:20260423T141401
CREATED:20250206T163118Z
LAST-MODIFIED:20250709T142331Z
UID:41701-1751995800-1751999400@cheyennehomebuilders.com
SUMMARY:Board Meeting
DESCRIPTION:
URL:https://cheyennehomebuilders.com/calendar/board-meeting-6/
LOCATION:The Align Team\, 822 W 23rd St\, Cheyenne\, WY\, 82001
END:VEVENT
BEGIN:VEVENT
DTSTART;TZID=America/Denver:20250702T173000
DTEND;TZID=America/Denver:20250702T183000
DTSTAMP:20260423T141401
CREATED:20250613T154904Z
LAST-MODIFIED:20250613T154904Z
UID:41880-1751477400-1751481000@cheyennehomebuilders.com
SUMMARY:Parade of Homes Committee Meeting
DESCRIPTION:
URL:https://cheyennehomebuilders.com/calendar/parade-of-homes-committee-meeting-7/
LOCATION:The Align Team\, 822 W 23rd St\, Cheyenne\, WY\, 82001
END:VEVENT
BEGIN:VEVENT
DTSTART;TZID=America/Denver:20250701T173000
DTEND;TZID=America/Denver:20250701T183000
DTSTAMP:20260423T141401
CREATED:20250206T171551Z
LAST-MODIFIED:20250206T171551Z
UID:41723-1751391000-1751394600@cheyennehomebuilders.com
SUMMARY:Exec Meeting
DESCRIPTION:
URL:https://cheyennehomebuilders.com/calendar/exec-meeting-5/
END:VEVENT
BEGIN:VEVENT
DTSTART;TZID=America/Denver:20250613T170000
DTEND;TZID=America/Denver:20250613T190000
DTSTAMP:20260423T141401
CREATED:20250312T172215Z
LAST-MODIFIED:20250410T153940Z
UID:41772-1749834000-1749841200@cheyennehomebuilders.com
SUMMARY:SEWBA Happy Hour
DESCRIPTION:
URL:https://cheyennehomebuilders.com/calendar/sewba-happy-hour/
LOCATION:Blue Raven Brewery\, 209 E 18th St\, Cheyenne\, WY\, 82001
END:VEVENT
BEGIN:VEVENT
DTSTART;TZID=America/Denver:20250611T173000
DTEND;TZID=America/Denver:20250611T183000
DTSTAMP:20260423T141401
CREATED:20250516T174035Z
LAST-MODIFIED:20250516T174035Z
UID:41871-1749663000-1749666600@cheyennehomebuilders.com
SUMMARY:Parade of Homes Committee Meeting
DESCRIPTION:
URL:https://cheyennehomebuilders.com/calendar/parade-of-homes-committee-meeting-6/
LOCATION:The Align Team\, 822 W 23rd St\, Cheyenne\, WY\, 82001
END:VEVENT
BEGIN:VEVENT
DTSTART;TZID=America/Denver:20250610T173000
DTEND;TZID=America/Denver:20250610T183000
DTSTAMP:20260423T141401
CREATED:20250206T163048Z
LAST-MODIFIED:20250206T163048Z
UID:41699-1749576600-1749580200@cheyennehomebuilders.com
SUMMARY:Board Meeting
DESCRIPTION:
URL:https://cheyennehomebuilders.com/calendar/board-meeting-5/
LOCATION:The Align Team\, 822 W 23rd St\, Cheyenne\, WY\, 82001
END:VEVENT
BEGIN:VEVENT
DTSTART;VALUE=DATE:20250606
DTEND;VALUE=DATE:20250607
DTSTAMP:20260423T141401
CREATED:20250214T185814Z
LAST-MODIFIED:20250214T185814Z
UID:41746-1749168000-1749254399@cheyennehomebuilders.com
SUMMARY:25th Annual Golf Tournament
DESCRIPTION:
URL:https://cheyennehomebuilders.com/calendar/25th-annual-golf-tournament/
LOCATION:Airport Golf Club\, 4801 Central Ave\, Cheyenne\, WY\, 82009
END:VEVENT
BEGIN:VEVENT
DTSTART;TZID=America/Denver:20250603T173000
DTEND;TZID=America/Denver:20250603T183000
DTSTAMP:20260423T141401
CREATED:20250206T171522Z
LAST-MODIFIED:20250206T171522Z
UID:41721-1748971800-1748975400@cheyennehomebuilders.com
SUMMARY:Exec Meeting
DESCRIPTION:
URL:https://cheyennehomebuilders.com/calendar/exec-meeting-4/
END:VEVENT
BEGIN:VEVENT
DTSTART;TZID=America/Denver:20250528T173000
DTEND;TZID=America/Denver:20250528T193000
DTSTAMP:20260423T141401
CREATED:20250206T162026Z
LAST-MODIFIED:20250326T222554Z
UID:41685-1748453400-1748460600@cheyennehomebuilders.com
SUMMARY:Membership Meeting
DESCRIPTION:Scholarship Presentation\, Fiesta Buffet
URL:https://cheyennehomebuilders.com/calendar/membership-meeting-2/
LOCATION:Laramie County Community College – CCI 130\, 1400 E College Dr\, Cheyenne\, WY\, 82007
END:VEVENT
BEGIN:VEVENT
DTSTART;TZID=America/Denver:20250522T163000
DTEND;TZID=America/Denver:20250522T173000
DTSTAMP:20260423T141401
CREATED:20250515T174027Z
LAST-MODIFIED:20250528T200431Z
UID:41869-1747931400-1747935000@cheyennehomebuilders.com
SUMMARY:Golf Tournament Committee Meeting
DESCRIPTION:
URL:https://cheyennehomebuilders.com/calendar/golf-tournament-committee-meeting-6/
LOCATION:Blue Raven Brewery\, 209 E 18th St\, Cheyenne\, WY\, 82001
END:VEVENT
BEGIN:VEVENT
DTSTART;TZID=America/Denver:20250522T113000
DTEND;TZID=America/Denver:20250522T130000
DTSTAMP:20260423T141401
CREATED:20250508T154038Z
LAST-MODIFIED:20250508T154038Z
UID:41863-1747913400-1747918800@cheyennehomebuilders.com
SUMMARY:Builders Forum
DESCRIPTION:
URL:https://cheyennehomebuilders.com/calendar/builders-forum/
LOCATION:Wyoming Bank & Trust\, 5827 Yellowstone Rd\, Cheyenne\, WY\, 82009\, United States
END:VEVENT
BEGIN:VEVENT
DTSTART;TZID=America/Denver:20250516T120000
DTEND;TZID=America/Denver:20250516T130000
DTSTAMP:20260423T141401
CREATED:20250508T154207Z
LAST-MODIFIED:20250508T154207Z
UID:41866-1747396800-1747400400@cheyennehomebuilders.com
SUMMARY:Membership Committee Meeting
DESCRIPTION:
URL:https://cheyennehomebuilders.com/calendar/membership-committee-meeting-4/
LOCATION:The Align Team\, 822 W 23rd St\, Cheyenne\, WY\, 82001
END:VEVENT
BEGIN:VEVENT
DTSTART;TZID=America/Denver:20250515T173000
DTEND;TZID=America/Denver:20250515T183000
DTSTAMP:20260423T141401
CREATED:20250428T162520Z
LAST-MODIFIED:20250428T162520Z
UID:41857-1747330200-1747333800@cheyennehomebuilders.com
SUMMARY:Parade of Homes Committee Meeting
DESCRIPTION:
URL:https://cheyennehomebuilders.com/calendar/parade-of-homes-committee-meeting-5/
LOCATION:The Align Team\, 822 W 23rd St\, Cheyenne\, WY\, 82001
END:VEVENT
BEGIN:VEVENT
DTSTART;TZID=America/Denver:20250513T173000
DTEND;TZID=America/Denver:20250513T183000
DTSTAMP:20260423T141401
CREATED:20250206T163020Z
LAST-MODIFIED:20250206T163020Z
UID:41697-1747157400-1747161000@cheyennehomebuilders.com
SUMMARY:Board Meeting
DESCRIPTION:
URL:https://cheyennehomebuilders.com/calendar/board-meeting-4/
LOCATION:The Align Team\, 822 W 23rd St\, Cheyenne\, WY\, 82001
END:VEVENT
END:VCALENDAR