BEGIN:VCALENDAR
VERSION:2.0
PRODID:-//Cheyenne Home Builders - ECPv6.15.20//NONSGML v1.0//EN
CALSCALE:GREGORIAN
METHOD:PUBLISH
X-WR-CALNAME:Cheyenne Home Builders
X-ORIGINAL-URL:https://cheyennehomebuilders.com
X-WR-CALDESC:Events for Cheyenne Home Builders
REFRESH-INTERVAL;VALUE=DURATION:PT1H
X-Robots-Tag:noindex
X-PUBLISHED-TTL:PT1H
BEGIN:VTIMEZONE
TZID:America/Denver
BEGIN:DAYLIGHT
TZOFFSETFROM:-0700
TZOFFSETTO:-0600
TZNAME:MDT
DTSTART:20240310T090000
END:DAYLIGHT
BEGIN:STANDARD
TZOFFSETFROM:-0600
TZOFFSETTO:-0700
TZNAME:MST
DTSTART:20241103T080000
END:STANDARD
BEGIN:DAYLIGHT
TZOFFSETFROM:-0700
TZOFFSETTO:-0600
TZNAME:MDT
DTSTART:20250309T090000
END:DAYLIGHT
BEGIN:STANDARD
TZOFFSETFROM:-0600
TZOFFSETTO:-0700
TZNAME:MST
DTSTART:20251102T080000
END:STANDARD
BEGIN:DAYLIGHT
TZOFFSETFROM:-0700
TZOFFSETTO:-0600
TZNAME:MDT
DTSTART:20260308T090000
END:DAYLIGHT
BEGIN:STANDARD
TZOFFSETFROM:-0600
TZOFFSETTO:-0700
TZNAME:MST
DTSTART:20261101T080000
END:STANDARD
BEGIN:DAYLIGHT
TZOFFSETFROM:-0700
TZOFFSETTO:-0600
TZNAME:MDT
DTSTART:20270314T090000
END:DAYLIGHT
BEGIN:STANDARD
TZOFFSETFROM:-0600
TZOFFSETTO:-0700
TZNAME:MST
DTSTART:20271107T080000
END:STANDARD
END:VTIMEZONE
BEGIN:VEVENT
DTSTART;TZID=America/Denver:20260505T173000
DTEND;TZID=America/Denver:20260505T183000
DTSTAMP:20260423T123403
CREATED:20251110T181436Z
LAST-MODIFIED:20251110T181436Z
UID:41935-1778002200-1778005800@cheyennehomebuilders.com
SUMMARY:Exec Meeting
DESCRIPTION:
URL:https://cheyennehomebuilders.com/calendar/exec-meeting-15/
LOCATION:WY
END:VEVENT
BEGIN:VEVENT
DTSTART;TZID=America/Denver:20260422T160000
DTEND;TZID=America/Denver:20260422T170000
DTSTAMP:20260423T123403
CREATED:20260407T224759Z
LAST-MODIFIED:20260407T224759Z
UID:42008-1776873600-1776877200@cheyennehomebuilders.com
SUMMARY:Golf Tournament Committee Meeting
DESCRIPTION:
URL:https://cheyennehomebuilders.com/calendar/golf-tournament-committee-meeting-7/
LOCATION:Blue Raven Brewery\, 209 E 18th St\, Cheyenne\, WY\, 82001
END:VEVENT
BEGIN:VEVENT
DTSTART;TZID=America/Denver:20260415T120000
DTEND;TZID=America/Denver:20260415T130000
DTSTAMP:20260423T123403
CREATED:20260407T224718Z
LAST-MODIFIED:20260407T224718Z
UID:42006-1776254400-1776258000@cheyennehomebuilders.com
SUMMARY:Membership Committee Meeting
DESCRIPTION:
URL:https://cheyennehomebuilders.com/calendar/membership-committee-meeting-6/
LOCATION:The Align Team\, 822 W 23rd St\, Cheyenne\, WY\, 82001
END:VEVENT
BEGIN:VEVENT
DTSTART;TZID=America/Denver:20260414T173000
DTEND;TZID=America/Denver:20260414T183000
DTSTAMP:20260423T123403
CREATED:20251110T181350Z
LAST-MODIFIED:20251110T181350Z
UID:41933-1776187800-1776191400@cheyennehomebuilders.com
SUMMARY:Board Meeting
DESCRIPTION:
URL:https://cheyennehomebuilders.com/calendar/board-meeting-15/
LOCATION:The Align Team\, 822 W 23rd St\, Cheyenne\, WY\, 82001
END:VEVENT
BEGIN:VEVENT
DTSTART;TZID=America/Denver:20260408T173000
DTEND;TZID=America/Denver:20260408T183000
DTSTAMP:20260423T123403
CREATED:20260407T224620Z
LAST-MODIFIED:20260407T224620Z
UID:42003-1775669400-1775673000@cheyennehomebuilders.com
SUMMARY:Scholarship Trust Board Meeting
DESCRIPTION:
URL:https://cheyennehomebuilders.com/calendar/scholarship-trust-board-meeting/
LOCATION:Westby Edge\, 714 W 20th St\, Cheyenne\, WY
END:VEVENT
BEGIN:VEVENT
DTSTART;TZID=America/Denver:20260407T173000
DTEND;TZID=America/Denver:20260407T183000
DTSTAMP:20260423T123403
CREATED:20251110T181324Z
LAST-MODIFIED:20251110T181324Z
UID:41931-1775583000-1775586600@cheyennehomebuilders.com
SUMMARY:Exec Meeting
DESCRIPTION:
URL:https://cheyennehomebuilders.com/calendar/exec-meeting-14/
LOCATION:WY
END:VEVENT
BEGIN:VEVENT
DTSTART;TZID=America/Denver:20260325T173000
DTEND;TZID=America/Denver:20260325T193000
DTSTAMP:20260423T123403
CREATED:20251201T231643Z
LAST-MODIFIED:20251201T232355Z
UID:41975-1774459800-1774467000@cheyennehomebuilders.com
SUMMARY:Membership Meeting
DESCRIPTION:Rodeo BBQ Roundup
URL:https://cheyennehomebuilders.com/calendar/membership-meeting-6/
LOCATION:Laramie County Community College – Clay Pathfinder\, Rm 108\, 1400 E College Dr\, Cheyenne\, WY\, 82007
END:VEVENT
BEGIN:VEVENT
DTSTART;TZID=America/Denver:20260318T120000
DTEND;TZID=America/Denver:20260318T130000
DTSTAMP:20260423T123403
CREATED:20260302T175706Z
LAST-MODIFIED:20260302T175706Z
UID:42000-1773835200-1773838800@cheyennehomebuilders.com
SUMMARY:Membership Committee Meeting
DESCRIPTION:
URL:https://cheyennehomebuilders.com/calendar/membership-committee-meeting-5/
LOCATION:The Align Team\, 822 W 23rd St\, Cheyenne\, WY\, 82001
END:VEVENT
BEGIN:VEVENT
DTSTART;TZID=America/Denver:20260310T173000
DTEND;TZID=America/Denver:20260310T183000
DTSTAMP:20260423T123403
CREATED:20251110T181224Z
LAST-MODIFIED:20251110T181224Z
UID:41929-1773163800-1773167400@cheyennehomebuilders.com
SUMMARY:Board Meeting
DESCRIPTION:
URL:https://cheyennehomebuilders.com/calendar/board-meeting-14/
LOCATION:The Align Team\, 822 W 23rd St\, Cheyenne\, WY\, 82001
END:VEVENT
BEGIN:VEVENT
DTSTART;TZID=America/Denver:20260303T173000
DTEND;TZID=America/Denver:20260303T183000
DTSTAMP:20260423T123403
CREATED:20251110T181150Z
LAST-MODIFIED:20251110T181150Z
UID:41927-1772559000-1772562600@cheyennehomebuilders.com
SUMMARY:Exec Meeting
DESCRIPTION:
URL:https://cheyennehomebuilders.com/calendar/exec-meeting-13/
LOCATION:WY
END:VEVENT
BEGIN:VEVENT
DTSTART;TZID=America/Denver:20260303T113000
DTEND;TZID=America/Denver:20260303T133000
DTSTAMP:20260423T123403
CREATED:20251202T164809Z
LAST-MODIFIED:20251202T164842Z
UID:41988-1772537400-1772544600@cheyennehomebuilders.com
SUMMARY:Legislative Luncheon
DESCRIPTION:With Habitat for Humanity of Laramie County & Wyoming Economic Development Association
URL:https://cheyennehomebuilders.com/calendar/legislative-luncheon-2/
LOCATION:Capitol Extension Conference Center Room W053 / W054\, 200 E 21st St\, Cheyenne\, WY\, 82002
END:VEVENT
BEGIN:VEVENT
DTSTART;TZID=America/Denver:20260210T173000
DTEND;TZID=America/Denver:20260210T183000
DTSTAMP:20260423T123403
CREATED:20251110T181101Z
LAST-MODIFIED:20251110T181101Z
UID:41925-1770744600-1770748200@cheyennehomebuilders.com
SUMMARY:Board Meeting
DESCRIPTION:
URL:https://cheyennehomebuilders.com/calendar/board-meeting-13/
LOCATION:The Align Team\, 822 W 23rd St\, Cheyenne\, WY\, 82001
END:VEVENT
BEGIN:VEVENT
DTSTART;TZID=America/Denver:20260203T173000
DTEND;TZID=America/Denver:20260203T183000
DTSTAMP:20260423T123403
CREATED:20251110T181030Z
LAST-MODIFIED:20251110T181030Z
UID:41923-1770139800-1770143400@cheyennehomebuilders.com
SUMMARY:Exec Meeting
DESCRIPTION:
URL:https://cheyennehomebuilders.com/calendar/exec-meeting-12/
LOCATION:WY
END:VEVENT
BEGIN:VEVENT
DTSTART;TZID=America/Denver:20260128T173000
DTEND;TZID=America/Denver:20260128T193000
DTSTAMP:20260423T123403
CREATED:20251201T231252Z
LAST-MODIFIED:20251201T232249Z
UID:41973-1769621400-1769628600@cheyennehomebuilders.com
SUMMARY:Membership Meeting
DESCRIPTION:Italian Buffet – Lasagna
URL:https://cheyennehomebuilders.com/calendar/membership-meeting-5/
LOCATION:Laramie County Community College – Clay Pathfinder\, Rm 108\, 1400 E College Dr\, Cheyenne\, WY\, 82007
END:VEVENT
BEGIN:VEVENT
DTSTART;TZID=America/Denver:20260113T173000
DTEND;TZID=America/Denver:20260113T183000
DTSTAMP:20260423T123403
CREATED:20251110T180851Z
LAST-MODIFIED:20251110T180851Z
UID:41919-1768325400-1768329000@cheyennehomebuilders.com
SUMMARY:Board Meeting
DESCRIPTION:
URL:https://cheyennehomebuilders.com/calendar/board-meeting-12/
LOCATION:The Align Team\, 822 W 23rd St\, Cheyenne\, WY\, 82001
END:VEVENT
BEGIN:VEVENT
DTSTART;TZID=America/Denver:20260106T173000
DTEND;TZID=America/Denver:20260106T183000
DTSTAMP:20260423T123403
CREATED:20251110T180945Z
LAST-MODIFIED:20251110T180945Z
UID:41921-1767720600-1767724200@cheyennehomebuilders.com
SUMMARY:Exec Meeting
DESCRIPTION:
URL:https://cheyennehomebuilders.com/calendar/exec-meeting-11/
LOCATION:WY
END:VEVENT
BEGIN:VEVENT
DTSTART;TZID=America/Denver:20251209T173000
DTEND;TZID=America/Denver:20251209T183000
DTSTAMP:20260423T123403
CREATED:20250206T163336Z
LAST-MODIFIED:20250206T163336Z
UID:41711-1765301400-1765305000@cheyennehomebuilders.com
SUMMARY:Board Meeting
DESCRIPTION:
URL:https://cheyennehomebuilders.com/calendar/board-meeting-11/
LOCATION:The Align Team\, 822 W 23rd St\, Cheyenne\, WY\, 82001
END:VEVENT
BEGIN:VEVENT
DTSTART;TZID=America/Denver:20251204T173000
DTEND;TZID=America/Denver:20251204T193000
DTSTAMP:20260423T123403
CREATED:20251110T180249Z
LAST-MODIFIED:20251110T180249Z
UID:41912-1764869400-1764876600@cheyennehomebuilders.com
SUMMARY:Holiday Party
DESCRIPTION:
URL:https://cheyennehomebuilders.com/calendar/holiday-party/
LOCATION:Ace’s Range\, 1505 Pioneer Ave\, Cheyenne\, WY\, 82001
END:VEVENT
BEGIN:VEVENT
DTSTART;TZID=America/Denver:20251202T173000
DTEND;TZID=America/Denver:20251202T183000
DTSTAMP:20260423T123403
CREATED:20250206T171839Z
LAST-MODIFIED:20250206T171839Z
UID:41733-1764696600-1764700200@cheyennehomebuilders.com
SUMMARY:Exec Meeting
DESCRIPTION:
URL:https://cheyennehomebuilders.com/calendar/exec-meeting-10/
LOCATION:WY
END:VEVENT
BEGIN:VEVENT
DTSTART;TZID=America/Denver:20251119T173000
DTEND;TZID=America/Denver:20251119T193000
DTSTAMP:20260423T123403
CREATED:20250206T162342Z
LAST-MODIFIED:20250206T162342Z
UID:41690-1763573400-1763580600@cheyennehomebuilders.com
SUMMARY:Membership Meeting
DESCRIPTION:
URL:https://cheyennehomebuilders.com/calendar/membership-meeting-4/
LOCATION:Laramie County Community College – Clay Pathfinder\, Rm 108\, 1400 E College Dr\, Cheyenne\, WY\, 82007
END:VEVENT
BEGIN:VEVENT
DTSTART;TZID=America/Denver:20251112T173000
DTEND;TZID=America/Denver:20251112T183000
DTSTAMP:20260423T123403
CREATED:20250206T163313Z
LAST-MODIFIED:20251110T180400Z
UID:41709-1762968600-1762972200@cheyennehomebuilders.com
SUMMARY:Board Meeting
DESCRIPTION:
URL:https://cheyennehomebuilders.com/calendar/board-meeting-10/
LOCATION:The Align Team\, 822 W 23rd St\, Cheyenne\, WY\, 82001
END:VEVENT
BEGIN:VEVENT
DTSTART;TZID=America/Denver:20251104T173000
DTEND;TZID=America/Denver:20251104T183000
DTSTAMP:20260423T123403
CREATED:20250206T171813Z
LAST-MODIFIED:20250206T171813Z
UID:41731-1762277400-1762281000@cheyennehomebuilders.com
SUMMARY:Exec Meeting
DESCRIPTION:
URL:https://cheyennehomebuilders.com/calendar/exec-meeting-9/
LOCATION:WY
END:VEVENT
BEGIN:VEVENT
DTSTART;TZID=America/Denver:20251014T173000
DTEND;TZID=America/Denver:20251014T183000
DTSTAMP:20260423T123403
CREATED:20250206T163246Z
LAST-MODIFIED:20250206T163246Z
UID:41707-1760463000-1760466600@cheyennehomebuilders.com
SUMMARY:Board Meeting
DESCRIPTION:
URL:https://cheyennehomebuilders.com/calendar/board-meeting-9/
LOCATION:The Align Team\, 822 W 23rd St\, Cheyenne\, WY\, 82001
END:VEVENT
BEGIN:VEVENT
DTSTART;TZID=America/Denver:20251007T173000
DTEND;TZID=America/Denver:20251007T183000
DTSTAMP:20260423T123403
CREATED:20250206T171744Z
LAST-MODIFIED:20250206T171744Z
UID:41729-1759858200-1759861800@cheyennehomebuilders.com
SUMMARY:Exec Meeting
DESCRIPTION:
URL:https://cheyennehomebuilders.com/calendar/exec-meeting-8/
LOCATION:WY
END:VEVENT
BEGIN:VEVENT
DTSTART;TZID=America/Denver:20250924T173000
DTEND;TZID=America/Denver:20250924T193000
DTSTAMP:20260423T123403
CREATED:20250206T162139Z
LAST-MODIFIED:20250206T162221Z
UID:41688-1758735000-1758742200@cheyennehomebuilders.com
SUMMARY:Membership Meeting
DESCRIPTION:
URL:https://cheyennehomebuilders.com/calendar/membership-meeting-3/
LOCATION:Laramie County Community College – CCI 130\, 1400 E College Dr\, Cheyenne\, WY\, 82007
END:VEVENT
BEGIN:VEVENT
DTSTART;TZID=America/Denver:20250912T150000
DTEND;TZID=America/Denver:20250914T160000
DTSTAMP:20260423T123403
CREATED:20250206T163615Z
LAST-MODIFIED:20250206T163615Z
UID:41713-1757689200-1757865600@cheyennehomebuilders.com
SUMMARY:Cheyenne Parade of Homes
DESCRIPTION:
URL:https://cheyennehomebuilders.com/calendar/cheyenne-parade-of-homes/
LOCATION:WY
END:VEVENT
BEGIN:VEVENT
DTSTART;TZID=America/Denver:20250909T173000
DTEND;TZID=America/Denver:20250909T183000
DTSTAMP:20260423T123403
CREATED:20250206T163218Z
LAST-MODIFIED:20250206T163218Z
UID:41705-1757439000-1757442600@cheyennehomebuilders.com
SUMMARY:Board Meeting
DESCRIPTION:
URL:https://cheyennehomebuilders.com/calendar/board-meeting-8/
LOCATION:The Align Team\, 822 W 23rd St\, Cheyenne\, WY\, 82001
END:VEVENT
BEGIN:VEVENT
DTSTART;TZID=America/Denver:20250906T110000
DTEND;TZID=America/Denver:20250906T130000
DTSTAMP:20260423T123403
CREATED:20250820T155617Z
LAST-MODIFIED:20250820T155617Z
UID:41886-1757156400-1757163600@cheyennehomebuilders.com
SUMMARY:UW Tailgate
DESCRIPTION:
URL:https://cheyennehomebuilders.com/calendar/uw-tailgate/
LOCATION:War Memorial Stadium\, Laramie\, WY
END:VEVENT
BEGIN:VEVENT
DTSTART;TZID=America/Denver:20250902T173000
DTEND;TZID=America/Denver:20250902T183000
DTSTAMP:20260423T123403
CREATED:20250206T171719Z
LAST-MODIFIED:20250206T171719Z
UID:41727-1756834200-1756837800@cheyennehomebuilders.com
SUMMARY:Exec Meeting
DESCRIPTION:
URL:https://cheyennehomebuilders.com/calendar/exec-meeting-7/
LOCATION:WY
END:VEVENT
BEGIN:VEVENT
DTSTART;TZID=America/Denver:20250812T173000
DTEND;TZID=America/Denver:20250812T183000
DTSTAMP:20260423T123403
CREATED:20250206T163146Z
LAST-MODIFIED:20250206T163146Z
UID:41703-1755019800-1755023400@cheyennehomebuilders.com
SUMMARY:Board Meeting
DESCRIPTION:
URL:https://cheyennehomebuilders.com/calendar/board-meeting-7/
LOCATION:The Align Team\, 822 W 23rd St\, Cheyenne\, WY\, 82001
END:VEVENT
END:VCALENDAR